BEGIN:VCALENDAR
VERSION:2.0
PRODID:-//Camilla Hoitenga - ECPv6.15.20//NONSGML v1.0//EN
CALSCALE:GREGORIAN
METHOD:PUBLISH
X-WR-CALNAME:Camilla Hoitenga
X-ORIGINAL-URL:https://www.hoitenga.com
X-WR-CALDESC:Events for Camilla Hoitenga
REFRESH-INTERVAL;VALUE=DURATION:PT1H
X-Robots-Tag:noindex
X-PUBLISHED-TTL:PT1H
BEGIN:VTIMEZONE
TZID:Europe/Berlin
BEGIN:DAYLIGHT
TZOFFSETFROM:+0100
TZOFFSETTO:+0200
TZNAME:CEST
DTSTART:20250330T010000
END:DAYLIGHT
BEGIN:STANDARD
TZOFFSETFROM:+0200
TZOFFSETTO:+0100
TZNAME:CET
DTSTART:20251026T010000
END:STANDARD
BEGIN:DAYLIGHT
TZOFFSETFROM:+0100
TZOFFSETTO:+0200
TZNAME:CEST
DTSTART:20260329T010000
END:DAYLIGHT
BEGIN:STANDARD
TZOFFSETFROM:+0200
TZOFFSETTO:+0100
TZNAME:CET
DTSTART:20261025T010000
END:STANDARD
BEGIN:DAYLIGHT
TZOFFSETFROM:+0100
TZOFFSETTO:+0200
TZNAME:CEST
DTSTART:20270328T010000
END:DAYLIGHT
BEGIN:STANDARD
TZOFFSETFROM:+0200
TZOFFSETTO:+0100
TZNAME:CET
DTSTART:20271031T010000
END:STANDARD
END:VTIMEZONE
BEGIN:VEVENT
DTSTART;VALUE=DATE:20260425
DTEND;VALUE=DATE:20260427
DTSTAMP:20260424T201918
CREATED:20260120T135746Z
LAST-MODIFIED:20260329T074100Z
UID:4126-1777075200-1777247999@www.hoitenga.com
SUMMARY:SOMBRE -- Music Theatre Production
DESCRIPTION:SOMBRE is an immersive music-theatre experience inspired by the sonic world of Kaija Saariaho\, one of the most significant composers of our time. Her music is placed in dialogue with new works by Jean-Baptiste Barrière\, Cécile Marti\, and Asia Ahmetjanova\, creating a rich landscape of sound\, image\, and movement. \nFive outstanding performers of contemporary music interact with an evocative stage installation of video\, electronic spaces\, and sculptural elements\, transforming the performance space into a living environment. Directed by Aleksi Barrière\, SOMBRE invites audiences into a powerful\, sensorial journey where music\, space\, and visual art meet. \nPerformers: Fritz Hauser\, Aleksander Gabryś\, Robert Koller\, Camilla Hoitenga\, and Eija Kankaanranta. \nProgramme\nSaariaho: Caliban’s Dream (bar\, fl\, kantele\, db)\nSaariaho NoaNoa (fl)\nMarti: Oviri (bar\, fl\, perc\, db)\nSaariaho: Ciel étoilé (perc\, db)\nBarrière: Un tempo di lampi senza tono (bar\, fl\, kantele) partial premiere\nSaariaho: Sombre (bar\, fl\, kantele\, perc\, db)
URL:https://www.hoitenga.com/event/sombre-music-theatre-production/
LOCATION:Cologne\, Alte Feuerwache
CATEGORIES:Concert,Festival/Symposium
ATTACH;FMTTYPE=image/png:https://www.hoitenga.com/new/wp-content/uploads/2026/01/26.-sombre-recording-with-score-camilla-hoitenga.png
END:VEVENT
END:VCALENDAR