BEGIN:VCALENDAR
VERSION:2.0
PRODID:-//Camilla Hoitenga - ECPv6.15.20//NONSGML v1.0//EN
CALSCALE:GREGORIAN
METHOD:PUBLISH
X-ORIGINAL-URL:https://www.hoitenga.com
X-WR-CALDESC:Events for Camilla Hoitenga
REFRESH-INTERVAL;VALUE=DURATION:PT1H
X-Robots-Tag:noindex
X-PUBLISHED-TTL:PT1H
BEGIN:VTIMEZONE
TZID:Europe/Berlin
BEGIN:DAYLIGHT
TZOFFSETFROM:+0100
TZOFFSETTO:+0200
TZNAME:CEST
DTSTART:20190331T010000
END:DAYLIGHT
BEGIN:STANDARD
TZOFFSETFROM:+0200
TZOFFSETTO:+0100
TZNAME:CET
DTSTART:20191027T010000
END:STANDARD
BEGIN:DAYLIGHT
TZOFFSETFROM:+0100
TZOFFSETTO:+0200
TZNAME:CEST
DTSTART:20200329T010000
END:DAYLIGHT
BEGIN:STANDARD
TZOFFSETFROM:+0200
TZOFFSETTO:+0100
TZNAME:CET
DTSTART:20201025T010000
END:STANDARD
BEGIN:DAYLIGHT
TZOFFSETFROM:+0100
TZOFFSETTO:+0200
TZNAME:CEST
DTSTART:20210328T010000
END:DAYLIGHT
BEGIN:STANDARD
TZOFFSETFROM:+0200
TZOFFSETTO:+0100
TZNAME:CET
DTSTART:20211031T010000
END:STANDARD
BEGIN:DAYLIGHT
TZOFFSETFROM:+0100
TZOFFSETTO:+0200
TZNAME:CEST
DTSTART:20220327T010000
END:DAYLIGHT
BEGIN:STANDARD
TZOFFSETFROM:+0200
TZOFFSETTO:+0100
TZNAME:CET
DTSTART:20221030T010000
END:STANDARD
BEGIN:DAYLIGHT
TZOFFSETFROM:+0100
TZOFFSETTO:+0200
TZNAME:CEST
DTSTART:20230326T010000
END:DAYLIGHT
BEGIN:STANDARD
TZOFFSETFROM:+0200
TZOFFSETTO:+0100
TZNAME:CET
DTSTART:20231029T010000
END:STANDARD
BEGIN:DAYLIGHT
TZOFFSETFROM:+0100
TZOFFSETTO:+0200
TZNAME:CEST
DTSTART:20240331T010000
END:DAYLIGHT
BEGIN:STANDARD
TZOFFSETFROM:+0200
TZOFFSETTO:+0100
TZNAME:CET
DTSTART:20241027T010000
END:STANDARD
BEGIN:DAYLIGHT
TZOFFSETFROM:+0100
TZOFFSETTO:+0200
TZNAME:CEST
DTSTART:20250330T010000
END:DAYLIGHT
BEGIN:STANDARD
TZOFFSETFROM:+0200
TZOFFSETTO:+0100
TZNAME:CET
DTSTART:20251026T010000
END:STANDARD
BEGIN:DAYLIGHT
TZOFFSETFROM:+0100
TZOFFSETTO:+0200
TZNAME:CEST
DTSTART:20260329T010000
END:DAYLIGHT
BEGIN:STANDARD
TZOFFSETFROM:+0200
TZOFFSETTO:+0100
TZNAME:CET
DTSTART:20261025T010000
END:STANDARD
BEGIN:DAYLIGHT
TZOFFSETFROM:+0100
TZOFFSETTO:+0200
TZNAME:CEST
DTSTART:20270328T010000
END:DAYLIGHT
BEGIN:STANDARD
TZOFFSETFROM:+0200
TZOFFSETTO:+0100
TZNAME:CET
DTSTART:20271031T010000
END:STANDARD
END:VTIMEZONE
BEGIN:VTIMEZONE
TZID:Asia/Tokyo
BEGIN:STANDARD
TZOFFSETFROM:+0900
TZOFFSETTO:+0900
TZNAME:JST
DTSTART:20240101T000000
END:STANDARD
END:VTIMEZONE
BEGIN:VEVENT
DTSTART;TZID=Europe/Berlin:20260322T180000
DTEND;TZID=Europe/Berlin:20260322T190000
DTSTAMP:20260421T151813
CREATED:20260216T170834Z
LAST-MODIFIED:20260225T200508Z
UID:4259-1774202400-1774206000@www.hoitenga.com
SUMMARY:Duo Hoitenga & Veit: Kammerkonzert
DESCRIPTION:Chamber Music Concert at the House of Baltic Germans  \nCamilla Hoitenga\, flute & Michael Veit\, cello\, perform Baroque\, Classical\, and contemporary music\, including works by G. Ph. Telemann\, J. S. Bach\, G. F. Handel\, and the Lithuanian composer Arvydas Malcys.  \nTime & Place: \nMarch 22\, 2026\, 6:00 p.m. House of Baltic Germans\, Herdweg 79\, 64285 Darmstadt  \nAbout the Event:   \nTickets are €15 (€10 for students) and are available exclusively at the door (starting 45 minutes before the concert). Advance bookings by email or phone are neither possible nor necessary. Seating is plentiful. For more information\, please call +49 6151-43457 or email info@deutsch-balten.de \nView the flyer here 
URL:https://www.hoitenga.com/event/duo-hoitenga-veit-kammerkonzert/
LOCATION:House of Baltic Germans\, Herdweg 79\, 64285 Darmstadt\, Herdweg 79\, Darmstadt\, 64285
CATEGORIES:Chamber Music,Concert
ATTACH;FMTTYPE=image/jpeg:https://www.hoitenga.com/new/wp-content/uploads/2025/05/cologne-may-25-high-res-scaled.jpg
END:VEVENT
BEGIN:VEVENT
DTSTART;TZID=Europe/Berlin:20260315T170000
DTEND;TZID=Europe/Berlin:20260315T170000
DTSTAMP:20260421T151813
CREATED:20260120T133915Z
LAST-MODIFIED:20260121T120922Z
UID:4115-1773594000-1773594000@www.hoitenga.com
SUMMARY:Duo Hoitenga/Veit: Old & New Music
DESCRIPTION:Music by Georg Philipp Telemann\, Johann Sebastian Bach\, Elliot Carter\, Bernd Alois Zimmermann\, Hans Zender\, Kaija Saariaho\, Karlheinz Stockhausen\nCamilla Hoitenga (Flöte)\, Michael Veit (Violoncello)
URL:https://www.hoitenga.com/event/duo-hoitenga-viet-old-new-music/
LOCATION:Zionskirche\, Bielefeld\, Am Zionswald 6\, Bielefeld\, 33617\, Germany
CATEGORIES:Chamber Music,Concert
ATTACH;FMTTYPE=image/jpeg:https://www.hoitenga.com/new/wp-content/uploads/2025/05/cologne-may-25-high-res-scaled.jpg
END:VEVENT
BEGIN:VEVENT
DTSTART;TZID=Asia/Tokyo:20251109T150000
DTEND;TZID=Asia/Tokyo:20251109T163000
DTSTAMP:20260421T151813
CREATED:20251017T153109Z
LAST-MODIFIED:20251017T153109Z
UID:4090-1762700400-1762705800@www.hoitenga.com
SUMMARY:2025 Yamanashi University/ Hokuto City Collaboration Project - Concert
DESCRIPTION:2025 Yamanashi University/Hokuto City Collaboration Project\n \nNovember 9\, 2025\nFlute & Kantele Concert\n\nDoors open 2:15 PM / Performance begins 3:00 PM\, Free admission\n\nNagasaka Community Hall\, 2575-19 Nagasaka Kamijo\, Nagasaka-machi\, Hokuto City\n \n\n\nDUO MIRAI – Camilla Hoitenga (Flute) & Eija Kankaranranta (Kantele)\nOlli Moilanen — Häikäisy \nStockhausen — Excerpts from AMOURfor flute\nKaija Saariaho — Light\, still and Moving \nNoriko Nakamura — Inspirare (flute solo)\n \nPoster Download\n 
URL:https://www.hoitenga.com/event/2025-yamanashi-university-hokuto-city-collaboration-project-concert/
LOCATION:Nagasaka Community Hall\, 2575-19 Nagasaka Kamijo\, Hokuto City\, Japan
CATEGORIES:Chamber Music,Concert
ATTACH;FMTTYPE=application/pdf:https://www.hoitenga.com/new/wp-content/uploads/2025/10/-copy.pdf
END:VEVENT
BEGIN:VEVENT
DTSTART;TZID=Europe/Berlin:20250926T193000
DTEND;TZID=Europe/Berlin:20250926T193000
DTSTAMP:20260421T151813
CREATED:20250810T231048Z
LAST-MODIFIED:20250810T231048Z
UID:3960-1758915000-1758915000@www.hoitenga.com
SUMMARY:Der Klang einer Flöte – El Cimarrón Ensemble
DESCRIPTION:El Cimarrón Ensemble presents ‘Der Klang einer Flöte” in celebration of Dr. Michael Kerstan’s 70th Birthday. El Cimarrón Ensemble:\nRobert Koller\, Gesang\nCamilla Hoitenga und David Gruber\, Flöten\nIvan Mancinelli\, Perkussion\nChristina Schorn-Mancinelli\, Gitarre\nDer in Nürnberg lebende und wirkende Autor\, Dramaturg\, Librettist\, Regisseur und Präsident der Hans Werner Henze Stiftung Dr. Michael Kerstan hat im Leben vieler Komponierender eine Rolle gespielt.  Zum 70. Geburtstag bringt ihm das El Cimarrón Ensemble\, dessen Regisseur er ist\, ein Ständchen aus einem posthum uraufgeführten Lied von Hans Werner Henze und weiteren Werken zeitgenössischer Komponierender\, deren Lebenswege sich mit dem Kerstans gekreuzt haben.\nDr Michael Kerstan\, author\, dramaturge\, librettist\, stage director and President of the Hans Werner Henze Foundation\, lives and works in Nuremberg and has played an influential role in the lives of many composers. On the occasion of his 70th birthday\, the El Cimarrón Ensemble — for which he serves as director — dedicates a musical tribute to him\, featuring a song by Hans Werner Henze\, premiered posthumously\, alongside other works by contemporary composers whose paths have crossed with his.
URL:https://www.hoitenga.com/event/der-klang-einer-flote-el-cimarron-ensemble/
CATEGORIES:Chamber Music,Concert
ATTACH;FMTTYPE=image/jpeg:https://www.hoitenga.com/new/wp-content/uploads/2025/01/dsc3130.jpeg
END:VEVENT
BEGIN:VEVENT
DTSTART;TZID=Europe/Berlin:20250913T000000
DTEND;TZID=Europe/Berlin:20250913T000000
DTSTAMP:20260421T151813
CREATED:20250810T231050Z
LAST-MODIFIED:20250810T231050Z
UID:3961-1757721600-1757721600@www.hoitenga.com
SUMMARY:Kantele Day Gala Concert
DESCRIPTION:Duo Mirai – Camilla Hoitenga\, flute & Eija Kankaanranta\, kantele – are joined by Tuuli Lindeberg\, soprano\, performing songs by Kaija Saariaho. 
URL:https://www.hoitenga.com/event/kantele-day-gala-concert/
CATEGORIES:Chamber Music,Concert
ATTACH;FMTTYPE=image/jpeg:https://www.hoitenga.com/new/wp-content/uploads/2025/08/ch-ek-berlin-1-scaled-z0ikyv.jpg
END:VEVENT
BEGIN:VEVENT
DTSTART;TZID=Europe/Berlin:20250827T000000
DTEND;TZID=Europe/Berlin:20250827T000000
DTSTAMP:20260421T151813
CREATED:20250810T231051Z
LAST-MODIFIED:20250810T231051Z
UID:3962-1756252800-1756252800@www.hoitenga.com
SUMMARY:Passenger Recovery: Concert and Lecture
DESCRIPTION:A concert and lecture demonstrating and supporting Passenger Recovery‘s Mission and Vision of Music and the Arts as a Pathway to Recovery presented at the annual Peer Conference for Recovery Community Organizations in Michigan\, sponsored by the Michigan Department of Health and Human Services.This is a private concert for participants of the conference. 
URL:https://www.hoitenga.com/event/passenger-recovery-concert-and-lecture/
CATEGORIES:Concert,Lecture,Solo
ATTACH;FMTTYPE=image/jpeg:https://www.hoitenga.com/new/wp-content/uploads/2025/08/camillahoitenga4692-scaled-pks48o.jpg
END:VEVENT
BEGIN:VEVENT
DTSTART;TZID=Europe/Berlin:20250531T130000
DTEND;TZID=Europe/Berlin:20250531T130000
DTSTAMP:20260421T151813
CREATED:20250810T231116Z
LAST-MODIFIED:20250810T231116Z
UID:3973-1748696400-1748696400@www.hoitenga.com
SUMMARY:Modern Classics for Flute & Cello
DESCRIPTION:Music for solo & duo: B.A. Zimmermann\, Stockhausen\, SaariahoKirche der Jesuiten Sankt Peter Köln\nKatholische Pfarrgemeinde\nJabachstraße 1\, 50676 Köln\nEingang:\nLeonhard-Tietz-Str. 6\, 50676 Köln\nMore information here: https://www.sankt-peter-koeln.de/wp/musik/konzerte/
URL:https://www.hoitenga.com/event/modern-classics-for-flute-cello/
CATEGORIES:Chamber Music,Concert
ATTACH;FMTTYPE=image/jpeg:https://www.hoitenga.com/new/wp-content/uploads/2025/01/may-31-classics.jpg
END:VEVENT
BEGIN:VEVENT
DTSTART;TZID=Europe/Berlin:20250518T170000
DTEND;TZID=Europe/Berlin:20250518T170000
DTSTAMP:20260421T151813
CREATED:20250810T231054Z
LAST-MODIFIED:20250810T231054Z
UID:3966-1747587600-1747587600@www.hoitenga.com
SUMMARY:Werkstattkonzert
DESCRIPTION:Presenting music from Bach and Telemann to Saariaho\, Stockhausen & Zimmermann  \n18. May 5 pm \nNettelbeckstr. 24\, 65195 Wiesbaden\n  \nDurch das Hoftor in den 2. Hinterhof\, da steht die Werkstatttür offen…..
URL:https://www.hoitenga.com/event/werkstattkonzert/
CATEGORIES:Chamber Music,Concert
ATTACH;FMTTYPE=image/png:https://www.hoitenga.com/new/wp-content/uploads/2025/04/event-image-.png
END:VEVENT
BEGIN:VEVENT
DTSTART;TZID=Europe/Berlin:20250509T194500
DTEND;TZID=Europe/Berlin:20250509T194500
DTSTAMP:20260421T151813
CREATED:20250810T231117Z
LAST-MODIFIED:20250810T231117Z
UID:3974-1746819900-1746819900@www.hoitenga.com
SUMMARY:Changing Light
DESCRIPTION:Camilla Hoitenga presents a recital of music by Kaija Saariaho\, Malika Kisho and Clément Mao-Takacs\, including two duets with soprano Anna Herbst. Part of the ACHT BRÜCKEN Festival. Program:\n– Clément Mao-Takacs – Itsutsu no Tanka (2006) 5 mélodies sur des poèmes d’Ono no Komachi für Flöte und Frauenstimme — Anna Herbst\, Sopran\n– Kaija Saariaho – Laconisme de l’aile (1982) für Flöte und Elektronik ad libitum. Text von Saint-John Perse\n– Malika Kishino – Monochromer Garten VIII (2016) für Altflöte\n– Kaija Saariaho – Dolce tormento (2004) für Piccoloflöte. Text von Francesco Petrarca\n– Changing Light (2005) Version für Sopran und Flöte. Text (Abendgebet) von Rabbi Jules Harlow — Anna Herbst\, Sopran
URL:https://www.hoitenga.com/event/changing-light/
CATEGORIES:Concert
ATTACH;FMTTYPE=image/png:https://www.hoitenga.com/new/wp-content/uploads/2025/01/acht-bruecken-.png
END:VEVENT
BEGIN:VEVENT
DTSTART;TZID=Europe/Berlin:20250106T183000
DTEND;TZID=Europe/Berlin:20250106T183000
DTSTAMP:20260421T151813
CREATED:20250810T231129Z
LAST-MODIFIED:20250810T231129Z
UID:3977-1736188200-1736188200@www.hoitenga.com
SUMMARY:Festive Mass for Three Kings Sunday
DESCRIPTION:The central work of the mass is the “Cantata in nativitate Domini” by the contemporary Latvian composer Rihards Dubra.More information here: https://www.rochuskirche.de/termine/kalender.html
URL:https://www.hoitenga.com/event/festive-mass-for-three-kings-sunday/
CATEGORIES:Concert
ATTACH;FMTTYPE=image/png:https://www.hoitenga.com/new/wp-content/uploads/2024/12/screenshot-2024-12-05-at-12.02.05pm.png
END:VEVENT
BEGIN:VEVENT
DTSTART;TZID=Europe/Berlin:20241226T113000
DTEND;TZID=Europe/Berlin:20241226T130000
DTSTAMP:20260421T151813
CREATED:20250810T231130Z
LAST-MODIFIED:20250810T231130Z
UID:3978-1735212600-1735218000@www.hoitenga.com
SUMMARY:Festive Christmas Mass
DESCRIPTION:
URL:https://www.hoitenga.com/event/festive-christmas-mass/
CATEGORIES:Concert
ATTACH;FMTTYPE=image/png:https://www.hoitenga.com/new/wp-content/uploads/2024/12/screenshot-2024-12-05-at-12.02.05pm.png
END:VEVENT
BEGIN:VEVENT
DTSTART;TZID=Europe/Berlin:20240706T150000
DTEND;TZID=Europe/Berlin:20240706T180000
DTSTAMP:20260421T151813
CREATED:20250810T231151Z
LAST-MODIFIED:20250810T231151Z
UID:3988-1720278000-1720288800@www.hoitenga.com
SUMMARY:Summer Music #3! Camilla Hoitnga\, Flute\, with special guest  Lillian Pearson\, Piano
DESCRIPTION:FANTASIES\, FRIENDSHIPS & FAVORITES — Classics for Flute by Telemann\, Gaubert\, Stockhausen\, Deane & ProkofievAdmission free\, donations appreciated!
URL:https://www.hoitenga.com/event/summer-music-3-camilla-hoitnga-flute-with-special-guest-lillian-pearson-piano/
CATEGORIES:Concert
ATTACH;FMTTYPE=image/jpeg:https://www.hoitenga.com/new/wp-content/uploads/2024/05/camilla-hoitenga-2nd-draft.jpg
END:VEVENT
BEGIN:VEVENT
DTSTART;TZID=Europe/Berlin:20240601T180000
DTEND;TZID=Europe/Berlin:20240601T200000
DTSTAMP:20260421T151813
CREATED:20250810T231159Z
LAST-MODIFIED:20250810T231159Z
UID:3990-1717264800-1717272000@www.hoitenga.com
SUMMARY:Concert with Mary Jane Leach
DESCRIPTION:Our contribution to a day-long festival of experimental music in a great location!Admission free!
URL:https://www.hoitenga.com/event/concert-with-mary-jane-leach/
CATEGORIES:Concert,Festival/Symposium
ATTACH;FMTTYPE=image/png:https://www.hoitenga.com/new/wp-content/uploads/2024/05/screenshot-2024-05-30-at-5.07.22-pm.png
END:VEVENT
BEGIN:VEVENT
DTSTART;TZID=Europe/Berlin:20240202T193000
DTEND;TZID=Europe/Berlin:20240202T200000
DTSTAMP:20260421T151813
CREATED:20250810T231149Z
LAST-MODIFIED:20250810T231149Z
UID:3987-1706902200-1706904000@www.hoitenga.com
SUMMARY:WCU Flute Festival Gala Concert
DESCRIPTION:My solo contributions: Stockhausen – Amour; Saariaho – Dolce Tormento Also playing on program: Kelariz Keshavarz (organizer)\, Christine Gustafson\, Jeiran Hasan\, Dennette McDermott. 
URL:https://www.hoitenga.com/event/wcu-flute-festival-gala-concert/
CATEGORIES:Concert,Festival/Symposium
ATTACH;FMTTYPE=image/jpeg:https://www.hoitenga.com/new/wp-content/uploads/2025/08/img_7801-camilla-hoitenga-scaled-yfucov.jpg
END:VEVENT
BEGIN:VEVENT
DTSTART;TZID=Europe/Berlin:20231210T170000
DTEND;TZID=Europe/Berlin:20231210T183000
DTSTAMP:20260421T151813
CREATED:20250810T231205Z
LAST-MODIFIED:20250810T231205Z
UID:3995-1702227600-1702233000@www.hoitenga.com
SUMMARY:Das Leuchten Zwischenuns 二人の間の光
DESCRIPTION:The music of Juha T. Koskinenwith Noh singer\, Ryoko Aoki
URL:https://www.hoitenga.com/event/das-leuchten-zwischenuns-%e4%ba%8c%e4%ba%ba%e3%81%ae%e9%96%93%e3%81%ae%e5%85%89/
CATEGORIES:Concert
ATTACH;FMTTYPE=image/jpeg:https://www.hoitenga.com/new/wp-content/uploads/2023/11/juha-t-koskinen-pieni-kuva.jpg
END:VEVENT
BEGIN:VEVENT
DTSTART;TZID=Europe/Berlin:20230827T170000
DTEND;TZID=Europe/Berlin:20230827T180000
DTSTAMP:20260421T151813
CREATED:20250810T231219Z
LAST-MODIFIED:20250810T231219Z
UID:4001-1693155600-1693159200@www.hoitenga.com
SUMMARY:Finissage Dorissa Lem
DESCRIPTION:
URL:https://www.hoitenga.com/event/finissage-dorissa-lem/
CATEGORIES:Concert
ATTACH;FMTTYPE=image/jpeg:https://www.hoitenga.com/new/wp-content/uploads/2023/07/ch-dorissa-lem.jpg
END:VEVENT
BEGIN:VEVENT
DTSTART;TZID=Europe/Berlin:20230818T190000
DTEND;TZID=Europe/Berlin:20230818T200000
DTSTAMP:20260421T151813
CREATED:20250810T231218Z
LAST-MODIFIED:20250810T231218Z
UID:4000-1692385200-1692388800@www.hoitenga.com
SUMMARY:Guest of Ensemble Superpluck – Music from Japan & Finland
DESCRIPTION:
URL:https://www.hoitenga.com/event/guest-of-ensemble-superpluck-music-from-japan-finland/
CATEGORIES:Concert
ATTACH;FMTTYPE=image/jpeg:https://www.hoitenga.com/new/wp-content/uploads/2023/07/ch-ek-hynninen.jpg
END:VEVENT
BEGIN:VEVENT
DTSTART;TZID=Europe/Berlin:20230701T170000
DTEND;TZID=Europe/Berlin:20230701T170000
DTSTAMP:20260421T151813
CREATED:20250810T231229Z
LAST-MODIFIED:20250810T231229Z
UID:4002-1688230800-1688230800@www.hoitenga.com
SUMMARY:Musical promenade around the sculptures in downtown Essen (no website yet) presented by WAVE DASH ~ with Magdalena Meitzner\, percussion
DESCRIPTION:
URL:https://www.hoitenga.com/event/musical-promenade-around-the-sculptures-in-downtown-essen-no-website-yet-presented-by-wave-dash-with-magdalena-meitzner-percussion/
CATEGORIES:Concert
ATTACH;FMTTYPE=image/jpeg:https://www.hoitenga.com/new/wp-content/uploads/2023/07/essen.jpg
END:VEVENT
BEGIN:VEVENT
DTSTART;TZID=Europe/Berlin:20230615T000000
DTEND;TZID=Europe/Berlin:20230615T000000
DTSTAMP:20260421T151813
CREATED:20250810T231214Z
LAST-MODIFIED:20250810T231214Z
UID:3996-1686787200-1686787200@www.hoitenga.com
SUMMARY:New Zealand Kaija Saariaho’s flute concerto Aile du Songe wth the Auckland Philharmonia
DESCRIPTION:
URL:https://www.hoitenga.com/event/new-zealand-kaija-saariahos-flute-concerto-aile-du-songe-wth-the-auckland-philharmonia/
CATEGORIES:Concert
ATTACH;FMTTYPE=image/jpeg:https://www.hoitenga.com/new/wp-content/uploads/2023/07/auckland.jpeg
END:VEVENT
BEGIN:VEVENT
DTSTART;TZID=Europe/Berlin:20230415T203000
DTEND;TZID=Europe/Berlin:20230415T203000
DTSTAMP:20260421T151813
CREATED:20250810T231234Z
LAST-MODIFIED:20250810T231234Z
UID:4006-1681590600-1681590600@www.hoitenga.com
SUMMARY:KGNM Remote.Zwei
DESCRIPTION:Concert of the KGNM Flute Ensemble with the Amsterdam band JerboahFor for information: https://splendoramsterdam.com/en/agenda/719695/kgnm-remote-zwei
URL:https://www.hoitenga.com/event/kgnm-remote-zwei/
CATEGORIES:Concert
ATTACH;FMTTYPE=image/jpeg:https://www.hoitenga.com/new/wp-content/uploads/2023/03/kgnm-floten-2.jpeg
END:VEVENT
BEGIN:VEVENT
DTSTART;TZID=Europe/Berlin:20230318T193000
DTEND;TZID=Europe/Berlin:20230318T193000
DTSTAMP:20260421T151813
CREATED:20250810T231245Z
LAST-MODIFIED:20250810T231245Z
UID:4007-1679167800-1679167800@www.hoitenga.com
SUMMARY:KGNM Remote.Eins
DESCRIPTION:Concert of the KGNM Flute Ensemble with the Amsterdam band JerboahFor more info: https://musik-in-koeln.de/de_DE/konzertkalender/kgnm-remote-eins.17569695
URL:https://www.hoitenga.com/event/kgnm-remote-eins/
CATEGORIES:Concert
ATTACH;FMTTYPE=image/jpeg:https://www.hoitenga.com/new/wp-content/uploads/2023/03/kgnm-floten-1.jpg
END:VEVENT
BEGIN:VEVENT
DTSTART;TZID=Europe/Berlin:20230312T170000
DTEND;TZID=Europe/Berlin:20230312T170000
DTSTAMP:20260421T151813
CREATED:20250810T231248Z
LAST-MODIFIED:20250810T231248Z
UID:4009-1678640400-1678640400@www.hoitenga.com
SUMMARY:Solo Concert with works by Kaija Saariaho\, Douglas Boyce\, Faidros Kavallaris\, and others
DESCRIPTION:More information: https://www.zionsgemeinde-bethel.de/kirchenmusik/konzerte/konzerte-in-der-zionskirche.html
URL:https://www.hoitenga.com/event/solo-concert-with-works-by-kaija-saariaho-douglas-boyce-faidros-kavallaris-and-others/
CATEGORIES:Concert,Solo
ATTACH;FMTTYPE=image/jpeg:https://www.hoitenga.com/new/wp-content/uploads/2023/01/camilla-h.jpeg
END:VEVENT
BEGIN:VEVENT
DTSTART;TZID=Europe/Berlin:20220917T203000
DTEND;TZID=Europe/Berlin:20220917T220000
DTSTAMP:20260421T151813
CREATED:20250810T231303Z
LAST-MODIFIED:20250810T231303Z
UID:4015-1663446600-1663452000@www.hoitenga.com
SUMMARY:Kaija dans le miroir
DESCRIPTION:Nuits\, adieux (1991) pour quatuor vocal et électroniqueNoaNoa (1992) pour flûte et électroniqueDie Aussicht (1996/2019) pour soprano et quatuor à cordesSept papillons (2000) pour violoncelleChanging Light (2002) pour soprano et violonLight still and moving (2016) pour flûte et kantelesoprano | Faustine de Monèsflûtes | Camilla Hoitengaviolon | Aliisa Neige Barrièrekantele | Eija Kankaanranta\nQuatuor Ardeoviolons | Carole Petitdemange\, Mi-Sa Yangalto | Yuko Haravioloncelle | Matthijs Broersma\nOrfeó Catalàsoprano | Mireia Tarragómezzo-soprano | Mariona Lloberatenor | Matthew Thomson\nhttps://festivalmusica.fr/manifestation/1821/kaija-dans-le-miroirbaryton | Joan Miquel Muñoz
URL:https://www.hoitenga.com/event/kaija-dans-le-miroir/
CATEGORIES:Chamber Music,Concert
ATTACH;FMTTYPE=image/jpeg:https://www.hoitenga.com/new/wp-content/uploads/2022/08/kaijasaariaho4maaritkytharju.jpg
END:VEVENT
BEGIN:VEVENT
DTSTART;TZID=Europe/Berlin:20220716T150000
DTEND;TZID=Europe/Berlin:20220716T163000
DTSTAMP:20260421T151813
CREATED:20250810T231315Z
LAST-MODIFIED:20250810T231315Z
UID:4018-1657983600-1657989000@www.hoitenga.com
SUMMARY:Concert – Solo Flute/Flute & Guitar with Michael Collings
DESCRIPTION:Solo Flute/Flute & Guitar with Michael Collings
URL:https://www.hoitenga.com/event/concert-solo-flute-flute-guitar-with-michael-collings/
CATEGORIES:Concert
ATTACH;FMTTYPE=image/png:https://www.hoitenga.com/new/wp-content/uploads/2022/05/screen-shot-2022-05-10-at-22.48.05.png
END:VEVENT
BEGIN:VEVENT
DTSTART;TZID=Europe/Berlin:20220529T150000
DTEND;TZID=Europe/Berlin:20220529T170000
DTSTAMP:20260421T151813
CREATED:20250810T231314Z
LAST-MODIFIED:20250810T231314Z
UID:4017-1653836400-1653843600@www.hoitenga.com
SUMMARY:FINISSAGE MUTSUMI OKADA\, Artist\, with Camilla Hoitenga\, flute
DESCRIPTION:“Parallel Music” returns as Camilla  Hoitenga improvises flute music inspired by Mutsumi Okada’s latest paintings
URL:https://www.hoitenga.com/event/finissage-mutsumi-okada-artist-with-camilla-hoitenga-flute/
CATEGORIES:Concert,Gallery
ATTACH;FMTTYPE=image/jpeg:https://www.hoitenga.com/new/wp-content/uploads/2022/05/cropped-danse-roumaine-1.jpg
END:VEVENT
BEGIN:VEVENT
DTSTART;TZID=Europe/Berlin:20220522T100000
DTEND;TZID=Europe/Berlin:20220522T140000
DTSTAMP:20260421T151813
CREATED:20250810T231329Z
LAST-MODIFIED:20250810T231329Z
UID:4022-1653213600-1653228000@www.hoitenga.com
SUMMARY:PARALLEL PIECES: IMPROVISATION FOR CLASSICAL MUSICIANS
DESCRIPTION:In-Person Workshop at The Green Room\, Cologne\, Germany
URL:https://www.hoitenga.com/event/parallel-pieces-improvisation-for-classical-musicians/
CATEGORIES:Concert
ATTACH;FMTTYPE=image/jpeg:https://www.hoitenga.com/new/wp-content/uploads/2022/05/event-may-22-2.jpg
END:VEVENT
BEGIN:VEVENT
DTSTART;TZID=Europe/Berlin:20220520T193000
DTEND;TZID=Europe/Berlin:20220520T193000
DTSTAMP:20260421T151813
CREATED:20250810T231330Z
LAST-MODIFIED:20250810T231330Z
UID:4023-1653075000-1653075000@www.hoitenga.com
SUMMARY:CONCERT: ATEMWELT (World of Breath) with Jovita Zähl\, Piano
DESCRIPTION:Pieces by Pèter Koeszeghy**\, Rodney Sharman*\, George Crumb\, Harue Kunieda*\, Melanie Bonis\, John Buckley*** World Premiere * German Premiere\nKunst-Station Sankt Peter\, Cologne\, Germany
URL:https://www.hoitenga.com/event/concert-atemwelt-world-of-breath-with-jovita-zahl-piano/
CATEGORIES:Concert
ATTACH;FMTTYPE=image/jpeg:https://www.hoitenga.com/new/wp-content/uploads/2022/05/event-may-20.jpg
END:VEVENT
BEGIN:VEVENT
DTSTART;TZID=Europe/Berlin:20220110T200000
DTEND;TZID=Europe/Berlin:20220110T210000
DTSTAMP:20260421T151813
CREATED:20250810T231333Z
LAST-MODIFIED:20250810T231333Z
UID:4025-1641844800-1641848400@www.hoitenga.com
SUMMARY:Dialog Concert
DESCRIPTION:Gare du Nord – “Dialog”On the program? Basically a history of my relationship with solo flute pieces\, from Jean-Paul Holstein & Charles Wuorinen to the Pèters Eötvos & Koeszeghy\, via Kobayashi\, Stockhausen\, Saariaho and Svoboda. Can’t wait to relive this music with a live audience!!
URL:https://www.hoitenga.com/event/dialog-concert/
CATEGORIES:Concert,Solo
ATTACH;FMTTYPE=image/jpeg:https://www.hoitenga.com/new/wp-content/uploads/2025/08/camillahoitenga4837-scaled-jh8nba.jpg
END:VEVENT
BEGIN:VEVENT
DTSTART;TZID=Europe/Berlin:20201214T200000
DTEND;TZID=Europe/Berlin:20201214T210000
DTSTAMP:20260421T151813
CREATED:20250810T231345Z
LAST-MODIFIED:20250810T231345Z
UID:4030-1607976000-1607979600@www.hoitenga.com
SUMMARY:Dialog — Solo concert at Gare du Nord\, Basel
DESCRIPTION:Program listingDetails to be announced
URL:https://www.hoitenga.com/event/dialog-solo-concert-at-gare-du-nord-basel/
CATEGORIES:Concert
ATTACH;FMTTYPE=image/jpeg:https://www.hoitenga.com/new/wp-content/uploads/2025/08/camillahoitenga4925p-copy-fnufz8.jpg
END:VEVENT
BEGIN:VEVENT
DTSTART;TZID=Europe/Berlin:20201114T140000
DTEND;TZID=Europe/Berlin:20201114T150000
DTSTAMP:20260421T151813
CREATED:20250810T231348Z
LAST-MODIFIED:20250810T231348Z
UID:4033-1605362400-1605366000@www.hoitenga.com
SUMMARY:November Music Festival
DESCRIPTION:Duo Flute & KanteleKaija Saariaho – Light Still and Moving\nMaija Hynninen – Lightness of the Days\nKarmit Fadael – new work*\nPeter Koeszeghy – Lips\n* Compositieopdracht November Music\nEija Kankaanranta – kantale\nCamilla Hoitenga – fluit
URL:https://www.hoitenga.com/event/november-music-festival/
CATEGORIES:Chamber Music,Concert
ATTACH;FMTTYPE=image/jpeg:https://www.hoitenga.com/new/wp-content/uploads/2025/08/ch-ek-berlin-scaled-yc6hbb.jpg
END:VEVENT
END:VCALENDAR