BEGIN:VCALENDAR
VERSION:2.0
PRODID:-//Camilla Hoitenga - ECPv6.15.20//NONSGML v1.0//EN
CALSCALE:GREGORIAN
METHOD:PUBLISH
X-ORIGINAL-URL:https://www.hoitenga.com
X-WR-CALDESC:Events for Camilla Hoitenga
REFRESH-INTERVAL;VALUE=DURATION:PT1H
X-Robots-Tag:noindex
X-PUBLISHED-TTL:PT1H
BEGIN:VTIMEZONE
TZID:Europe/Berlin
BEGIN:DAYLIGHT
TZOFFSETFROM:+0100
TZOFFSETTO:+0200
TZNAME:CEST
DTSTART:20180325T010000
END:DAYLIGHT
BEGIN:STANDARD
TZOFFSETFROM:+0200
TZOFFSETTO:+0100
TZNAME:CET
DTSTART:20181028T010000
END:STANDARD
BEGIN:DAYLIGHT
TZOFFSETFROM:+0100
TZOFFSETTO:+0200
TZNAME:CEST
DTSTART:20190331T010000
END:DAYLIGHT
BEGIN:STANDARD
TZOFFSETFROM:+0200
TZOFFSETTO:+0100
TZNAME:CET
DTSTART:20191027T010000
END:STANDARD
BEGIN:DAYLIGHT
TZOFFSETFROM:+0100
TZOFFSETTO:+0200
TZNAME:CEST
DTSTART:20200329T010000
END:DAYLIGHT
BEGIN:STANDARD
TZOFFSETFROM:+0200
TZOFFSETTO:+0100
TZNAME:CET
DTSTART:20201025T010000
END:STANDARD
BEGIN:DAYLIGHT
TZOFFSETFROM:+0100
TZOFFSETTO:+0200
TZNAME:CEST
DTSTART:20210328T010000
END:DAYLIGHT
BEGIN:STANDARD
TZOFFSETFROM:+0200
TZOFFSETTO:+0100
TZNAME:CET
DTSTART:20211031T010000
END:STANDARD
BEGIN:DAYLIGHT
TZOFFSETFROM:+0100
TZOFFSETTO:+0200
TZNAME:CEST
DTSTART:20220327T010000
END:DAYLIGHT
BEGIN:STANDARD
TZOFFSETFROM:+0200
TZOFFSETTO:+0100
TZNAME:CET
DTSTART:20221030T010000
END:STANDARD
BEGIN:DAYLIGHT
TZOFFSETFROM:+0100
TZOFFSETTO:+0200
TZNAME:CEST
DTSTART:20230326T010000
END:DAYLIGHT
BEGIN:STANDARD
TZOFFSETFROM:+0200
TZOFFSETTO:+0100
TZNAME:CET
DTSTART:20231029T010000
END:STANDARD
BEGIN:DAYLIGHT
TZOFFSETFROM:+0100
TZOFFSETTO:+0200
TZNAME:CEST
DTSTART:20240331T010000
END:DAYLIGHT
BEGIN:STANDARD
TZOFFSETFROM:+0200
TZOFFSETTO:+0100
TZNAME:CET
DTSTART:20241027T010000
END:STANDARD
BEGIN:DAYLIGHT
TZOFFSETFROM:+0100
TZOFFSETTO:+0200
TZNAME:CEST
DTSTART:20250330T010000
END:DAYLIGHT
BEGIN:STANDARD
TZOFFSETFROM:+0200
TZOFFSETTO:+0100
TZNAME:CET
DTSTART:20251026T010000
END:STANDARD
BEGIN:DAYLIGHT
TZOFFSETFROM:+0100
TZOFFSETTO:+0200
TZNAME:CEST
DTSTART:20260329T010000
END:DAYLIGHT
BEGIN:STANDARD
TZOFFSETFROM:+0200
TZOFFSETTO:+0100
TZNAME:CET
DTSTART:20261025T010000
END:STANDARD
BEGIN:DAYLIGHT
TZOFFSETFROM:+0100
TZOFFSETTO:+0200
TZNAME:CEST
DTSTART:20270328T010000
END:DAYLIGHT
BEGIN:STANDARD
TZOFFSETFROM:+0200
TZOFFSETTO:+0100
TZNAME:CET
DTSTART:20271031T010000
END:STANDARD
END:VTIMEZONE
BEGIN:VTIMEZONE
TZID:Asia/Tokyo
BEGIN:STANDARD
TZOFFSETFROM:+0900
TZOFFSETTO:+0900
TZNAME:JST
DTSTART:20240101T000000
END:STANDARD
END:VTIMEZONE
BEGIN:VEVENT
DTSTART;TZID=Europe/Berlin:20260322T180000
DTEND;TZID=Europe/Berlin:20260322T190000
DTSTAMP:20260421T183408
CREATED:20260216T170834Z
LAST-MODIFIED:20260225T200508Z
UID:4259-1774202400-1774206000@www.hoitenga.com
SUMMARY:Duo Hoitenga & Veit: Kammerkonzert
DESCRIPTION:Chamber Music Concert at the House of Baltic Germans  \nCamilla Hoitenga\, flute & Michael Veit\, cello\, perform Baroque\, Classical\, and contemporary music\, including works by G. Ph. Telemann\, J. S. Bach\, G. F. Handel\, and the Lithuanian composer Arvydas Malcys.  \nTime & Place: \nMarch 22\, 2026\, 6:00 p.m. House of Baltic Germans\, Herdweg 79\, 64285 Darmstadt  \nAbout the Event:   \nTickets are €15 (€10 for students) and are available exclusively at the door (starting 45 minutes before the concert). Advance bookings by email or phone are neither possible nor necessary. Seating is plentiful. For more information\, please call +49 6151-43457 or email info@deutsch-balten.de \nView the flyer here 
URL:https://www.hoitenga.com/event/duo-hoitenga-veit-kammerkonzert/
LOCATION:House of Baltic Germans\, Herdweg 79\, 64285 Darmstadt\, Herdweg 79\, Darmstadt\, 64285
CATEGORIES:Chamber Music,Concert
ATTACH;FMTTYPE=image/jpeg:https://www.hoitenga.com/new/wp-content/uploads/2025/05/cologne-may-25-high-res-scaled.jpg
END:VEVENT
BEGIN:VEVENT
DTSTART;TZID=Europe/Berlin:20260315T170000
DTEND;TZID=Europe/Berlin:20260315T170000
DTSTAMP:20260421T183408
CREATED:20260120T133915Z
LAST-MODIFIED:20260121T120922Z
UID:4115-1773594000-1773594000@www.hoitenga.com
SUMMARY:Duo Hoitenga/Veit: Old & New Music
DESCRIPTION:Music by Georg Philipp Telemann\, Johann Sebastian Bach\, Elliot Carter\, Bernd Alois Zimmermann\, Hans Zender\, Kaija Saariaho\, Karlheinz Stockhausen\nCamilla Hoitenga (Flöte)\, Michael Veit (Violoncello)
URL:https://www.hoitenga.com/event/duo-hoitenga-viet-old-new-music/
LOCATION:Zionskirche\, Bielefeld\, Am Zionswald 6\, Bielefeld\, 33617\, Germany
CATEGORIES:Chamber Music,Concert
ATTACH;FMTTYPE=image/jpeg:https://www.hoitenga.com/new/wp-content/uploads/2025/05/cologne-may-25-high-res-scaled.jpg
END:VEVENT
BEGIN:VEVENT
DTSTART;TZID=Asia/Tokyo:20251109T150000
DTEND;TZID=Asia/Tokyo:20251109T163000
DTSTAMP:20260421T183408
CREATED:20251017T153109Z
LAST-MODIFIED:20251017T153109Z
UID:4090-1762700400-1762705800@www.hoitenga.com
SUMMARY:2025 Yamanashi University/ Hokuto City Collaboration Project - Concert
DESCRIPTION:2025 Yamanashi University/Hokuto City Collaboration Project\n \nNovember 9\, 2025\nFlute & Kantele Concert\n\nDoors open 2:15 PM / Performance begins 3:00 PM\, Free admission\n\nNagasaka Community Hall\, 2575-19 Nagasaka Kamijo\, Nagasaka-machi\, Hokuto City\n \n\n\nDUO MIRAI – Camilla Hoitenga (Flute) & Eija Kankaranranta (Kantele)\nOlli Moilanen — Häikäisy \nStockhausen — Excerpts from AMOURfor flute\nKaija Saariaho — Light\, still and Moving \nNoriko Nakamura — Inspirare (flute solo)\n \nPoster Download\n 
URL:https://www.hoitenga.com/event/2025-yamanashi-university-hokuto-city-collaboration-project-concert/
LOCATION:Nagasaka Community Hall\, 2575-19 Nagasaka Kamijo\, Hokuto City\, Japan
CATEGORIES:Chamber Music,Concert
ATTACH;FMTTYPE=application/pdf:https://www.hoitenga.com/new/wp-content/uploads/2025/10/-copy.pdf
END:VEVENT
BEGIN:VEVENT
DTSTART;TZID=Asia/Tokyo:20251108T140000
DTEND;TZID=Asia/Tokyo:20251108T160000
DTSTAMP:20260421T183408
CREATED:20251017T153352Z
LAST-MODIFIED:20251017T153352Z
UID:4094-1762610400-1762617600@www.hoitenga.com
SUMMARY:2025 Yamanashi University/ Hokuto City Collaboration Project
DESCRIPTION:2025 Yamanashi University/Hokuto City Collaboration Project\n \nNovember 8\, 2025\nWorkshop on Collaboration with Stockhausen & Saariaho \n2:00-4:00 PM\nRoom L527 Yamanashi University\n \nPoster Download
URL:https://www.hoitenga.com/event/2025-yamanashi-university-hokuto-city-collaboration-project/
LOCATION:Yamanashi University\, Room L527\, Japan
CATEGORIES:Chamber Music,Lecture,Workshop
ATTACH;FMTTYPE=image/jpeg:https://www.hoitenga.com/new/wp-content/uploads/2025/10/japan-workshop-.jpg
END:VEVENT
BEGIN:VEVENT
DTSTART;TZID=Asia/Tokyo:20251106T183000
DTEND;TZID=Asia/Tokyo:20251106T200000
DTSTAMP:20260421T183408
CREATED:20251017T152802Z
LAST-MODIFIED:20251017T152802Z
UID:4086-1762453800-1762459200@www.hoitenga.com
SUMMARY:Music for Flute & Kantele (Lecture Concert)
DESCRIPTION:Duo Mirai Concert: Music for Flute and Kantele (Lecture Concert) \nAichi University of the Arts\, Ensemble Hall\nNagakute\, Japan\n6:30 – 8:00 PM\n \nProgramme includes:\n\nKalle Ylitalo — Kide (kantele solo)\nOlli Moilanen — Häikäisy \nJuha T. Koskinen — Shibaraku \nKaija Saariaho — Light\, still and Moving \nNoriko Nakamura — Inspirare (flute solo) \n\nPoster Download 
URL:https://www.hoitenga.com/event/music-for-flute-kantele-lecture-concert/
LOCATION:Aichi University of the Arts\, Nagakute\, Japan
CATEGORIES:Chamber Music,Lecture
ATTACH;FMTTYPE=application/pdf:https://www.hoitenga.com/new/wp-content/uploads/2025/10/camilla-and-eija.pdf
END:VEVENT
BEGIN:VEVENT
DTSTART;TZID=Asia/Tokyo:20251105T160000
DTEND;TZID=Asia/Tokyo:20251105T173000
DTSTAMP:20260421T183408
CREATED:20251017T152409Z
LAST-MODIFIED:20251017T152409Z
UID:4081-1762358400-1762363800@www.hoitenga.com
SUMMARY:Tokyo Symposium: Duo Mirai Concert & Lecture
DESCRIPTION:Tokyo Symposium: Duo Mirai concert and lecture\n4 – 5:30 PM\nTokyo Concert Labs. \nHighlight is the World Premiere of Olli Moilanen’s beautiful Häikäisy (Brilliance) for bass flute and kantele. \nAlso featured are pieces written for us by Juha T. Koskinen & Kaija Saariaho. \nPoster Download
URL:https://www.hoitenga.com/event/tokyo-symposium-duo-mirai-concert-lecture/
LOCATION:Tokyo Concert Labs\, Tokyo\, Japan
CATEGORIES:Chamber Music,Workshop
ATTACH;FMTTYPE=application/pdf:https://www.hoitenga.com/new/wp-content/uploads/2025/10/2025_11.5.pdf
END:VEVENT
BEGIN:VEVENT
DTSTART;TZID=Europe/Berlin:20250926T193000
DTEND;TZID=Europe/Berlin:20250926T193000
DTSTAMP:20260421T183408
CREATED:20250810T231048Z
LAST-MODIFIED:20250810T231048Z
UID:3960-1758915000-1758915000@www.hoitenga.com
SUMMARY:Der Klang einer Flöte – El Cimarrón Ensemble
DESCRIPTION:El Cimarrón Ensemble presents ‘Der Klang einer Flöte” in celebration of Dr. Michael Kerstan’s 70th Birthday. El Cimarrón Ensemble:\nRobert Koller\, Gesang\nCamilla Hoitenga und David Gruber\, Flöten\nIvan Mancinelli\, Perkussion\nChristina Schorn-Mancinelli\, Gitarre\nDer in Nürnberg lebende und wirkende Autor\, Dramaturg\, Librettist\, Regisseur und Präsident der Hans Werner Henze Stiftung Dr. Michael Kerstan hat im Leben vieler Komponierender eine Rolle gespielt.  Zum 70. Geburtstag bringt ihm das El Cimarrón Ensemble\, dessen Regisseur er ist\, ein Ständchen aus einem posthum uraufgeführten Lied von Hans Werner Henze und weiteren Werken zeitgenössischer Komponierender\, deren Lebenswege sich mit dem Kerstans gekreuzt haben.\nDr Michael Kerstan\, author\, dramaturge\, librettist\, stage director and President of the Hans Werner Henze Foundation\, lives and works in Nuremberg and has played an influential role in the lives of many composers. On the occasion of his 70th birthday\, the El Cimarrón Ensemble — for which he serves as director — dedicates a musical tribute to him\, featuring a song by Hans Werner Henze\, premiered posthumously\, alongside other works by contemporary composers whose paths have crossed with his.
URL:https://www.hoitenga.com/event/der-klang-einer-flote-el-cimarron-ensemble/
CATEGORIES:Chamber Music,Concert
ATTACH;FMTTYPE=image/jpeg:https://www.hoitenga.com/new/wp-content/uploads/2025/01/dsc3130.jpeg
END:VEVENT
BEGIN:VEVENT
DTSTART;TZID=Europe/Berlin:20250913T000000
DTEND;TZID=Europe/Berlin:20250913T000000
DTSTAMP:20260421T183408
CREATED:20250810T231050Z
LAST-MODIFIED:20250810T231050Z
UID:3961-1757721600-1757721600@www.hoitenga.com
SUMMARY:Kantele Day Gala Concert
DESCRIPTION:Duo Mirai – Camilla Hoitenga\, flute & Eija Kankaanranta\, kantele – are joined by Tuuli Lindeberg\, soprano\, performing songs by Kaija Saariaho. 
URL:https://www.hoitenga.com/event/kantele-day-gala-concert/
CATEGORIES:Chamber Music,Concert
ATTACH;FMTTYPE=image/jpeg:https://www.hoitenga.com/new/wp-content/uploads/2025/08/ch-ek-berlin-1-scaled-z0ikyv.jpg
END:VEVENT
BEGIN:VEVENT
DTSTART;TZID=Europe/Berlin:20250531T130000
DTEND;TZID=Europe/Berlin:20250531T130000
DTSTAMP:20260421T183408
CREATED:20250810T231116Z
LAST-MODIFIED:20250810T231116Z
UID:3973-1748696400-1748696400@www.hoitenga.com
SUMMARY:Modern Classics for Flute & Cello
DESCRIPTION:Music for solo & duo: B.A. Zimmermann\, Stockhausen\, SaariahoKirche der Jesuiten Sankt Peter Köln\nKatholische Pfarrgemeinde\nJabachstraße 1\, 50676 Köln\nEingang:\nLeonhard-Tietz-Str. 6\, 50676 Köln\nMore information here: https://www.sankt-peter-koeln.de/wp/musik/konzerte/
URL:https://www.hoitenga.com/event/modern-classics-for-flute-cello/
CATEGORIES:Chamber Music,Concert
ATTACH;FMTTYPE=image/jpeg:https://www.hoitenga.com/new/wp-content/uploads/2025/01/may-31-classics.jpg
END:VEVENT
BEGIN:VEVENT
DTSTART;TZID=Europe/Berlin:20250518T170000
DTEND;TZID=Europe/Berlin:20250518T170000
DTSTAMP:20260421T183408
CREATED:20250810T231054Z
LAST-MODIFIED:20250810T231054Z
UID:3966-1747587600-1747587600@www.hoitenga.com
SUMMARY:Werkstattkonzert
DESCRIPTION:Presenting music from Bach and Telemann to Saariaho\, Stockhausen & Zimmermann  \n18. May 5 pm \nNettelbeckstr. 24\, 65195 Wiesbaden\n  \nDurch das Hoftor in den 2. Hinterhof\, da steht die Werkstatttür offen…..
URL:https://www.hoitenga.com/event/werkstattkonzert/
CATEGORIES:Chamber Music,Concert
ATTACH;FMTTYPE=image/png:https://www.hoitenga.com/new/wp-content/uploads/2025/04/event-image-.png
END:VEVENT
BEGIN:VEVENT
DTSTART;TZID=Europe/Berlin:20241011T193000
DTEND;TZID=Europe/Berlin:20241011T210000
DTSTAMP:20260421T183408
CREATED:20250810T231146Z
LAST-MODIFIED:20250810T231146Z
UID:3984-1728675000-1728680400@www.hoitenga.com
SUMMARY:Music Collages — Stockhausen & Saariaho with Telemann & Bach
DESCRIPTION:A moderated concert with works by Karlheinz Stockhausen\, Kaija Saariaho\, and Georg Philipp Telemann for solo flute\, and by JS Bach & Saariaho for flute & cello.With Camilla Hoitenga\, Flute & Michael Veit\, Cello
URL:https://www.hoitenga.com/event/music-collages-stockhausen-saariaho-with-telemann-bach/
CATEGORIES:Chamber Music
ATTACH;FMTTYPE=image/jpeg:https://www.hoitenga.com/new/wp-content/uploads/2025/08/img_0119-camilla-hoitenga-e1724343827358-lnllpx.jpg
END:VEVENT
BEGIN:VEVENT
DTSTART;TZID=Europe/Berlin:20240707T000000
DTEND;TZID=Europe/Berlin:20240707T000000
DTSTAMP:20260421T183408
CREATED:20250810T231133Z
LAST-MODIFIED:20250810T231133Z
UID:3980-1720310400-1720310400@www.hoitenga.com
SUMMARY:Mahler Music Weeks — with Ensemble El Cimarron
DESCRIPTION:Works by young composers premiered by the El Cimarrón Ensemble and the Pustertal Valley quintet “Die Blechzinnen”.
URL:https://www.hoitenga.com/event/mahler-music-weeks-with-ensemble-el-cimarron/
CATEGORIES:Chamber Music
ATTACH;FMTTYPE=image/jpeg:https://www.hoitenga.com/new/wp-content/uploads/2025/08/img_0138-camilla-hoitenga-e1724343895624-kvzzqk.jpg
END:VEVENT
BEGIN:VEVENT
DTSTART;TZID=Europe/Berlin:20220920T201500
DTEND;TZID=Europe/Berlin:20220920T214500
DTSTAMP:20260421T183408
CREATED:20250810T231301Z
LAST-MODIFIED:20250810T231301Z
UID:4013-1663704900-1663710300@www.hoitenga.com
SUMMARY:Wenn Flöten Töten (When Flutes Kill)
DESCRIPTION:A concert of new music for multiple flutes\, with the newly-formed KGNM Fluteensemble!Die Flötist*innen des kgnm Flötenensembles sind Neue Musik Expert*innen\, Improvisator*innen und oftmals auch Komponist*innen. Unser Debüt-Konzert basiert auf dem Artikel mit dem ketzerischen Titel „Wenn Flöten Töten“ vom 26.11.2020\, geschrieben von Helmut Maurós\, veröffentlicht in der Süddeutschen Zeitung.\nArtistic Direction: Angelika Sheridan & Verena Barié\nhttps://kgnm.culturebase.org/de_DE/konzertkalender/wenn-floeten-toeten.17431160
URL:https://www.hoitenga.com/event/wenn-floten-toten-when-flutes-kill/
CATEGORIES:Chamber Music
ATTACH;FMTTYPE=image/png:https://www.hoitenga.com/new/wp-content/uploads/2022/08/screen-shot-2022-08-21-at-11.34.48.png
END:VEVENT
BEGIN:VEVENT
DTSTART;TZID=Europe/Berlin:20220917T203000
DTEND;TZID=Europe/Berlin:20220917T220000
DTSTAMP:20260421T183408
CREATED:20250810T231303Z
LAST-MODIFIED:20250810T231303Z
UID:4015-1663446600-1663452000@www.hoitenga.com
SUMMARY:Kaija dans le miroir
DESCRIPTION:Nuits\, adieux (1991) pour quatuor vocal et électroniqueNoaNoa (1992) pour flûte et électroniqueDie Aussicht (1996/2019) pour soprano et quatuor à cordesSept papillons (2000) pour violoncelleChanging Light (2002) pour soprano et violonLight still and moving (2016) pour flûte et kantelesoprano | Faustine de Monèsflûtes | Camilla Hoitengaviolon | Aliisa Neige Barrièrekantele | Eija Kankaanranta\nQuatuor Ardeoviolons | Carole Petitdemange\, Mi-Sa Yangalto | Yuko Haravioloncelle | Matthijs Broersma\nOrfeó Catalàsoprano | Mireia Tarragómezzo-soprano | Mariona Lloberatenor | Matthew Thomson\nhttps://festivalmusica.fr/manifestation/1821/kaija-dans-le-miroirbaryton | Joan Miquel Muñoz
URL:https://www.hoitenga.com/event/kaija-dans-le-miroir/
CATEGORIES:Chamber Music,Concert
ATTACH;FMTTYPE=image/jpeg:https://www.hoitenga.com/new/wp-content/uploads/2022/08/kaijasaariaho4maaritkytharju.jpg
END:VEVENT
BEGIN:VEVENT
DTSTART;TZID=Europe/Berlin:20201114T140000
DTEND;TZID=Europe/Berlin:20201114T150000
DTSTAMP:20260421T183408
CREATED:20250810T231348Z
LAST-MODIFIED:20250810T231348Z
UID:4033-1605362400-1605366000@www.hoitenga.com
SUMMARY:November Music Festival
DESCRIPTION:Duo Flute & KanteleKaija Saariaho – Light Still and Moving\nMaija Hynninen – Lightness of the Days\nKarmit Fadael – new work*\nPeter Koeszeghy – Lips\n* Compositieopdracht November Music\nEija Kankaanranta – kantale\nCamilla Hoitenga – fluit
URL:https://www.hoitenga.com/event/november-music-festival/
CATEGORIES:Chamber Music,Concert
ATTACH;FMTTYPE=image/jpeg:https://www.hoitenga.com/new/wp-content/uploads/2025/08/ch-ek-berlin-scaled-yc6hbb.jpg
END:VEVENT
BEGIN:VEVENT
DTSTART;TZID=Europe/Berlin:20191120T200000
DTEND;TZID=Europe/Berlin:20200101T180000
DTSTAMP:20260421T183408
CREATED:20250810T231433Z
LAST-MODIFIED:20250810T231433Z
UID:4058-1574280000-1577901600@www.hoitenga.com
SUMMARY:Recital
DESCRIPTION:Recital with Attila Jeszenszky-Böhm piano. World Premieres of music by Attila Jeszenszky-Böhm\, Pèter Köszeghy and Esteban Ariel D’Antona
URL:https://www.hoitenga.com/event/recital/
CATEGORIES:Chamber Music,Concert
END:VEVENT
END:VCALENDAR